Workbook

Sheet Feuille de temps
A1: Feuille de temps
A2: Modèle La Fabrique du Net . lafabriquedunet.fr
A3: Saisissez une ligne par période de travail. La durée et le montant se calculent seuls. Les cellules grisées sont à remplir.
A5: Collaborateur | B5: Prénom Nom
A6: Semaine du (lundi) | B6: 46300
A8: Date | B8: Client | C8: Projet | D8: Tâche | E8: Début | F8: Fin | G8: Pause (min) | H8: Durée (h) | I8: Facturable | J8: Taux horaire (€) | K8: Montant (€) | L8: Commentaire
A9: 46300 | B9: Client A | C9: Refonte site | D9: Maquettes | E9: 0.375 | F9: 0.52083333 | G9: 0 | H9: =IF(OR(E9="",F9=""),"",ROUND(MOD(F9-E9,1)*24-N(G9)/60,2)) | I9: Oui | J9: 60 | K9: =IF(AND(H9<>"",I9="Oui",J9<>""),H9*J9,"")
A10: 46300 | B10: Interne | C10: Gestion | D10: Administratif | E10: 0.58333333 | F10: 0.625 | G10: 0 | H10: =IF(OR(E10="",F10=""),"",ROUND(MOD(F10-E10,1)*24-N(G10)/60,2)) | I10: Non | K10: =IF(AND(H10<>"",I10="Oui",J10<>""),H10*J10,"") | L10: Exemple, à effacer
H11: =IF(OR(E11="",F11=""),"",ROUND(MOD(F11-E11,1)*24-N(G11)/60,2)) | K11: =IF(AND(H11<>"",I11="Oui",J11<>""),H11*J11,"")
H12: =IF(OR(E12="",F12=""),"",ROUND(MOD(F12-E12,1)*24-N(G12)/60,2)) | K12: =IF(AND(H12<>"",I12="Oui",J12<>""),H12*J12,"")
H13: =IF(OR(E13="",F13=""),"",ROUND(MOD(F13-E13,1)*24-N(G13)/60,2)) | K13: =IF(AND(H13<>"",I13="Oui",J13<>""),H13*J13,"")
H14: =IF(OR(E14="",F14=""),"",ROUND(MOD(F14-E14,1)*24-N(G14)/60,2)) | K14: =IF(AND(H14<>"",I14="Oui",J14<>""),H14*J14,"")
H15: =IF(OR(E15="",F15=""),"",ROUND(MOD(F15-E15,1)*24-N(G15)/60,2)) | K15: =IF(AND(H15<>"",I15="Oui",J15<>""),H15*J15,"")
H16: =IF(OR(E16="",F16=""),"",ROUND(MOD(F16-E16,1)*24-N(G16)/60,2)) | K16: =IF(AND(H16<>"",I16="Oui",J16<>""),H16*J16,"")
H17: =IF(OR(E17="",F17=""),"",ROUND(MOD(F17-E17,1)*24-N(G17)/60,2)) | K17: =IF(AND(H17<>"",I17="Oui",J17<>""),H17*J17,"")
H18: =IF(OR(E18="",F18=""),"",ROUND(MOD(F18-E18,1)*24-N(G18)/60,2)) | K18: =IF(AND(H18<>"",I18="Oui",J18<>""),H18*J18,"")
H19: =IF(OR(E19="",F19=""),"",ROUND(MOD(F19-E19,1)*24-N(G19)/60,2)) | K19: =IF(AND(H19<>"",I19="Oui",J19<>""),H19*J19,"")
H20: =IF(OR(E20="",F20=""),"",ROUND(MOD(F20-E20,1)*24-N(G20)/60,2)) | K20: =IF(AND(H20<>"",I20="Oui",J20<>""),H20*J20,"")
H21: =IF(OR(E21="",F21=""),"",ROUND(MOD(F21-E21,1)*24-N(G21)/60,2)) | K21: =IF(AND(H21<>"",I21="Oui",J21<>""),H21*J21,"")
H22: =IF(OR(E22="",F22=""),"",ROUND(MOD(F22-E22,1)*24-N(G22)/60,2)) | K22: =IF(AND(H22<>"",I22="Oui",J22<>""),H22*J22,"")
... H108: =IF(OR(E108="",F108=""),"",ROUND(MOD(F108-E108,1)*24-N(G108)/60,2)) | K108: =IF(AND(H108<>"",I108="Oui",J108<>""),H108*J108,"")
G110: Total | H110: =SUM(H9:H108) | K110: =SUM(K9:K108)

Sheet Synthèse
A1: Synthèse de la semaine
A2: Calculée depuis l'onglet Feuille de temps. Saisissez vos noms de projets dans la colonne A du tableau par projet.
A4: Collaborateur | B4: ='Feuille de temps'!B5
A5: Heures totales | B5: ='Feuille de temps'!H110
A6: Heures facturables | B6: =SUMIFS('Feuille de temps'!H9:H108,'Feuille de temps'!I9:I108,"Oui")
A7: Taux facturable | B7: =IF(B5=0,0,B6/B5)
A8: Montant à facturer | B8: ='Feuille de temps'!K110
A11: Heures par jour
A12: Jour | B12: Date | C12: Heures
A13: Lundi | B13: ='Feuille de temps'!$B$6+0 | C13: =SUMIFS('Feuille de temps'!$H$9:$H$108,'Feuille de temps'!$A$9:$A$108,B13)
A14: Mardi | B14: ='Feuille de temps'!$B$6+1 | C14: =SUMIFS('Feuille de temps'!$H$9:$H$108,'Feuille de temps'!$A$9:$A$108,B14)
A15: Mercredi | B15: ='Feuille de temps'!$B$6+2 | C15: =SUMIFS('Feuille de temps'!$H$9:$H$108,'Feuille de temps'!$A$9:$A$108,B15)
A16: Jeudi | B16: ='Feuille de temps'!$B$6+3 | C16: =SUMIFS('Feuille de temps'!$H$9:$H$108,'Feuille de temps'!$A$9:$A$108,B16)
A17: Vendredi | B17: ='Feuille de temps'!$B$6+4 | C17: =SUMIFS('Feuille de temps'!$H$9:$H$108,'Feuille de temps'!$A$9:$A$108,B17)
A18: Samedi | B18: ='Feuille de temps'!$B$6+5 | C18: =SUMIFS('Feuille de temps'!$H$9:$H$108,'Feuille de temps'!$A$9:$A$108,B18)
A19: Dimanche | B19: ='Feuille de temps'!$B$6+6 | C19: =SUMIFS('Feuille de temps'!$H$9:$H$108,'Feuille de temps'!$A$9:$A$108,B19)
A20: Total semaine | C20: =SUM(C13:C19)
A23: Heures par projet
A24: Projet | B24: Heures | C24: Dont facturables | D24: Montant (€)
A25: Refonte site | B25: =IF(A25="","",SUMIFS('Feuille de temps'!$H$9:$H$108,'Feuille de temps'!$C$9:$C$108,A25)) | C25: =IF(A25="","",SUMIFS('Feuille de temps'!$H$9:$H$108,'Feuille de temps'!$C$9:$C$108,A25,'Feuille de temps'!$I$9:$I$108,"Oui")) | D25: =IF(A25="","",SUMIFS('Feuille de temps'!$K$9:$K$108,'Feuille de temps'!$C$9:$C$108,A25))
A26: Gestion | B26: =IF(A26="","",SUMIFS('Feuille de temps'!$H$9:$H$108,'Feuille de temps'!$C$9:$C$108,A26)) | C26: =IF(A26="","",SUMIFS('Feuille de temps'!$H$9:$H$108,'Feuille de temps'!$C$9:$C$108,A26,'Feuille de temps'!$I$9:$I$108,"Oui")) | D26: =IF(A26="","",SUMIFS('Feuille de temps'!$K$9:$K$108,'Feuille de temps'!$C$9:$C$108,A26))
B27: =IF(A27="","",SUMIFS('Feuille de temps'!$H$9:$H$108,'Feuille de temps'!$C$9:$C$108,A27)) | C27: =IF(A27="","",SUMIFS('Feuille de temps'!$H$9:$H$108,'Feuille de temps'!$C$9:$C$108,A27,'Feuille de temps'!$I$9:$I$108,"Oui")) | D27: =IF(A27="","",SUMIFS('Feuille de temps'!$K$9:$K$108,'Feuille de temps'!$C$9:$C$108,A27))
B28: =IF(A28="","",SUMIFS('Feuille de temps'!$H$9:$H$108,'Feuille de temps'!$C$9:$C$108,A28)) | C28: =IF(A28="","",SUMIFS('Feuille de temps'!$H$9:$H$108,'Feuille de temps'!$C$9:$C$108,A28,'Feuille de temps'!$I$9:$I$108,"Oui")) | D28: =IF(A28="","",SUMIFS('Feuille de temps'!$K$9:$K$108,'Feuille de temps'!$C$9:$C$108,A28))
B29: =IF(A29="","",SUMIFS('Feuille de temps'!$H$9:$H$108,'Feuille de temps'!$C$9:$C$108,A29)) | C29: =IF(A29="","",SUMIFS('Feuille de temps'!$H$9:$H$108,'Feuille de temps'!$C$9:$C$108,A29,'Feuille de temps'!$I$9:$I$108,"Oui")) | D29: =IF(A29="","",SUMIFS('Feuille de temps'!$K$9:$K$108,'Feuille de temps'!$C$9:$C$108,A29))
B30: =IF(A30="","",SUMIFS('Feuille de temps'!$H$9:$H$108,'Feuille de temps'!$C$9:$C$108,A30)) | C30: =IF(A30="","",SUMIFS('Feuille de temps'!$H$9:$H$108,'Feuille de temps'!$C$9:$C$108,A30,'Feuille de temps'!$I$9:$I$108,"Oui")) | D30: =IF(A30="","",SUMIFS('Feuille de temps'!$K$9:$K$108,'Feuille de temps'!$C$9:$C$108,A30))
B31: =IF(A31="","",SUMIFS('Feuille de temps'!$H$9:$H$108,'Feuille de temps'!$C$9:$C$108,A31)) | C31: =IF(A31="","",SUMIFS('Feuille de temps'!$H$9:$H$108,'Feuille de temps'!$C$9:$C$108,A31,'Feuille de temps'!$I$9:$I$108,"Oui")) | D31: =IF(A31="","",SUMIFS('Feuille de temps'!$K$9:$K$108,'Feuille de temps'!$C$9:$C$108,A31))
B32: =IF(A32="","",SUMIFS('Feuille de temps'!$H$9:$H$108,'Feuille de temps'!$C$9:$C$108,A32)) | C32: =IF(A32="","",SUMIFS('Feuille de temps'!$H$9:$H$108,'Feuille de temps'!$C$9:$C$108,A32,'Feuille de temps'!$I$9:$I$108,"Oui")) | D32: =IF(A32="","",SUMIFS('Feuille de temps'!$K$9:$K$108,'Feuille de temps'!$C$9:$C$108,A32))
B33: =IF(A33="","",SUMIFS('Feuille de temps'!$H$9:$H$108,'Feuille de temps'!$C$9:$C$108,A33)) | C33: =IF(A33="","",SUMIFS('Feuille de temps'!$H$9:$H$108,'Feuille de temps'!$C$9:$C$108,A33,'Feuille de temps'!$I$9:$I$108,"Oui")) | D33: =IF(A33="","",SUMIFS('Feuille de temps'!$K$9:$K$108,'Feuille de temps'!$C$9:$C$108,A33))
B34: =IF(A34="","",SUMIFS('Feuille de temps'!$H$9:$H$108,'Feuille de temps'!$C$9:$C$108,A34)) | C34: =IF(A34="","",SUMIFS('Feuille de temps'!$H$9:$H$108,'Feuille de temps'!$C$9:$C$108,A34,'Feuille de temps'!$I$9:$I$108,"Oui")) | D34: =IF(A34="","",SUMIFS('Feuille de temps'!$K$9:$K$108,'Feuille de temps'!$C$9:$C$108,A34))

Sheet Mode d'emploi
A1: Mode d'emploi
A3: 1. Dans l'onglet Feuille de temps, renseignez le collaborateur et la date du lundi de la semaine.
A4: 2. Ajoutez une ligne par période de travail : date, client, projet, tâche, heure de début, heure de fin et pause en minutes.
A5: 3. La durée se calcule seule, pause déduite ; une période qui passe minuit est gérée.
A6: 4. Indiquez si le temps est facturable (Oui / Non) et le taux horaire : le montant à facturer se calcule seul.
A7: 5. Dans l'onglet Synthèse, saisissez vos noms de projets pour obtenir le total par projet. Les deux lignes d'exemple sont à effacer.
A8: 6. Dupliquez le fichier ou l'onglet chaque semaine, et faites valider la feuille par le responsable.
A10: Bon à savoir
A11: Pour les salariés qui ne travaillent pas selon un même horaire collectif affiché, le Code du travail (article D3171-8) impose de décompter la durée du travail chaque jour (heures de début et de fin, ou nombre d'heures) et de la récapituler chaque semaine.
A12: Un tableur convient pour quelques personnes. Au-delà, un logiciel de suivi du temps apporte le chronomètre, les rappels de saisie, la validation et le lien avec la facturation ou la paie.
A13: Comparatif des logiciels de suivi du temps : lafabriquedunet.fr/logiciels/productivite/suivi-temps
